Workbook

Sheet 様式１
B1: 様式１ | C1: 令和９年２月告示に係る対象産地一覧 | I1: 局等名 | T1: （色付セルはプルダウンで選択）
B2: 都道府県名
B3: 要望内容 ※１
B4: 産地名
B5: 構成市町村 ※２
B6: 変更の概要 （新規・解除を除く）
B7: 指定野菜の種別
B8: 指定要件充足状況等 | C8: 年度実績 ※３ | D8: R4年産 | E8: R5年産 | F8: R6年産 | G8: R7年産 | H8: R4年産 | I8: R5年産 | J8: R6年産 | K8: R7年産 | L8: R4年産 | M8: R5年産 | N8: R6年産 | O8: R7年産 | P8: R4年産 | Q8: R5年産 | R8: R6年産 | S8: R7年産 | T8: R4年産 | U8: R5年産 | V8: R6年産 | W8: R7年産
C9: 作付面積 | D9: 0 | E9: 0 | F9: 0 | G9: 0 | H9: 0 | I9: 0 | J9: 0 | K9: 0 | L9: 0 | M9: 0 | N9: 0 | O9: 0 | P9: 0 | Q9: 0 | R9: 0 | S9: 0 | T9: 0 | U9: 0 | V9: 0 | W9: 0
C10: 出荷割合 | D10: 0 | E10: 0 | F10: 0 | G10: 0 | H10: 0 | I10: 0 | J10: 0 | K10: 0 | L10: 0 | M10: 0 | N10: 0 | O10: 0 | P10: 0 | Q10: 0 | R10: 0 | S10: 0 | T10: 0 | U10: 0 | V10: 0 | W10: 0
C11: 面積要件
C12: 出荷割合要件
C13: 複合産地名 （種別） | D13: ※５ | H13: ※５ | L13: ※５ | P13: ※５ | T13: ※５
C14: 活性化計画 策定状況
B15: 要望理由 (様式２～５の再掲で可。 市町村合併による場合は、合併告示日（又は告示予定日）を記載) ※６
B16: 出荷団体等名
B17: 指定年度、区域変更年度 | D17: 指定： 年度 区域変更（直近）： 年度 | H17: 指定： 年度 区域変更（直近）： 年度 | L17: 指定： 年度 区域変更（直近）： 年度 | P17: 指定： 年度 区域変更（直近）： 年度 | T17: 指定： 年度 区域変更（直近）： 年度
B18: ※１ 指定産地の新規指定、区域変更、解除のほか、市町村合併等による告示上の名称変更がある場合は必ず要望書に記載すること。
B19: ※２ 産地名及び構成市町村に変更がある場合は、当該欄に変更前→変更後を記載すること。
B20: ※３ 年度は、新規指定及び区域拡大の場合は、令和３年産～令和５年産の統計値若しくは、県・市・農協等において実績が判明している直近年の数値とその前年・前々年を記載すること。 解除及び区域縮小の場合は、令和３年産～令和５年産の統計値を記載する。（様式２～４についても同じ） ※この様式内の区域変更産地欄における、令和５年産（若しくは直近年）の部分には、区域変更後の数値を記載する。
B21: ※４ 出荷割合要件50％を選択する場合は、施行規則第２条第２項に掲げる野菜の品目毎の作付面積と、その区域の出荷単収が全国又は当該区域が存在する都道府県の概ねの出荷単収以上であるか確認すること。
B22: ※５ 複合産地名は、面積要件において複合特例を活用する場合のみ記載すること。この場合、様式２及び３を作成すること。
B23: ※６ 告示するにあたって問題となった経緯や災害等による影響がある場合は、要望理由の欄に追記すること。
B25: 要望内容 | E25: 面積要件 | G25: 出荷割合要件 | J25: 活性化計画
B26: 新規指定 | E26: 20ha（露地） | G26: 0.667 | J26: －
B27: 解除 | E27: 16ha（露地・複合特例） | G27: 50%（特例 ※４） | J27: 実施期間中
B28: 区域変更（拡大） | E28: 12ha（果菜類夏秋） | J28: 実施済（1次まで）
B29: 区域変更（縮小） | E29: 10ha（果菜類夏秋・複合特例） | J29: 実施済（2次まで）
B30: その他（告示上の変更） | E30: 8ha（果菜類冬春）
E31: 6ha（果菜類冬春・複合特例）
B34: ※３ 産地名及び構成市町村に変更がある場合は、当該欄に変更前→変更後を記載すること。

Sheet 様式２
B1: 様式２ 新規指定産地の概要 | F1: 局等名 | N1: =様式１!P1 -> 0
B2: 都道府県名
B3: 産地名 | D3: 種別
B5: 市町村名 | C5: 出荷団体等名 （農家戸数） | D5: 作付面積(ha) （１０ａ当たり収穫量ｋｇ） | I5: 出荷団体・大規模生産者による出荷数量(ｔ) （出荷割合 ％)
D6: R4年産 | E6: R5年産 | F6: R6年産 | G6: R7年産 | H6: 見通し (R10年産) | I6: R4年産 | J6: R5年産 | K6: R6年産 | L6: R7年産 | M6: 見通し (R10年産) | O6: 参考 | P6: =様式１!R3 -> 0
D7: 0 | E7: 0 | F7: 0 | G7: 0 | H7: 0 | I7: 0 | J7: 0 | K7: 0 | L7: 0 | M7: 0
D8: 0 | E8: 0 | F8: 0 | G8: 0 | H8: 0 | I8: 0 | J8: 0 | K8: 0 | L8: 0 | M8: 0 | O8: 面積要件 20ha（露地） 16ha（露地・複合特例） 12ha（果菜類夏秋） 10ha（果菜類夏秋・複合特例） 8ha（果菜類冬春） 6ha（果菜類冬春・複合特例） | Q8: 出荷割合要件 66.7% 50%（特例：面積及び出荷単収クリア）
B19: 合計 ※下段は産地全体の数値を入力 | D19: =SUM(D7+D9+D11+D13+D15+D17) -> 0 | E19: =SUM(E7+E9+E11+E13+E15+E17) -> 0 | F19: =SUM(F7+F9+F11+F13+F15+F17) -> 0 | G19: =SUM(G7+G9+G11+G13+G15+G17) -> 0 | H19: =SUM(H7+H9+H11+H13+H15+H17) -> 0 | I19: =SUM(I7+I9+I11+I13+I15+I17) -> 0 | J19: =SUM(J7+J9+J11+J13+J15+J17) -> 0 | K19: =SUM(K7+K9+K11+K13+K15+K17) -> 0 | ... M19: =SUM(M7+M9+M11+M13+M15+M17) -> 0
D20: 0 | E20: 0 | F20: 0 | G20: 0 | H20: 0 | I20: 0 | J20: 0 | K20: 0 | L20: 0 | M20: 0
B21: 【新規指定を申し出る理由】
B22: 当該種別での 特定事業の実施状況 | C22: 特定産地名： （ 年度～） | K22: 複合特例適用の予定 (施行規則第１条第２項)
B23: ↑実施している場合は、指定産地告示日前に特定事業における特定産地を解除すること。 一部市町村のみ特定等事業を実施していた場合は、当該市町村を特定事業における特定産地の区域から除くこと。 | K23: ↑有の場合は様式３も記載
M26: 有
M27: 無

Sheet 様式３
B1: 様式３ 複合要件の適用を予定する新規指定産地候補地の概要 | N1: 局等名
B2: 都道府県名（ ） | D2: 適用を予定する新規指定産地 | I2: 複合産地の組合せ対象となる既存産地
B3: 産地名
B4: 種別
B5: 活性化計画の有無
B6: 年別作付面積(ha) 構成市町村名 | D6: R4年産 | E6: R5年産 | F6: R6年産 | G6: R7年産 | H6: 見通し (R10年産) | I6: R4年産 | J6: R5年産 | K6: R6年産 | L6: R7年産 | M6: 見通し (R10年産) | N6: R4年産 | O6: R5年産 | P6: R6年産 | Q6: R7年産 | R6: 見通し (R10年産) | S6: R4年産 | T6: R5年産 | U6: R6年産 | V6: R7年産 | W6: 見通し (R10年産)
B7: 重複市町村 | D7: 0 | E7: 0 | F7: 0 | G7: 0 | H7: 0 | Y7: 参考 | Z7: 0
Y9: 面積要件 20ha（露地） 16ha（露地・複合特例） 12ha（果菜類夏秋） 10ha（果菜類夏秋・複合特例） 8ha（果菜類冬春） 6ha（果菜類冬春・複合特例） | AA9: 出荷割合要件 66.7% 50%（特例：面積及び出荷単収クリア）
C12: 重複市町村計 ※２ | D12: =SUM(D7:D11) -> 0 | E12: =SUM(E7:E11) -> 0 | F12: =SUM(F7:F11) -> 0 | G12: =SUM(G7:G11) -> 0 | H12: =SUM(H7:H11) -> 0 | I12: =SUM(I7:I11) -> 0 | J12: =SUM(J7:J11) -> 0 | K12: =SUM(K7:K11) -> 0 | ... W12: =SUM(W7:W11) -> 0
B13: 重複していない 市町村
B18: 産地計 | D18: =D12+SUM(D13:D17) -> 0 | E18: =E12+SUM(E13:E17) -> 0 | F18: =F12+SUM(F13:F17) -> 0 | G18: =G12+SUM(G13:G17) -> 0 | H18: =H12+SUM(H13:H17) -> 0 | I18: =I12+SUM(I13:I17) -> 0 | J18: =J12+SUM(J13:J17) -> 0 | K18: =K12+SUM(K13:K17) -> 0 | ... W18: =W12+SUM(W13:W17) -> 0
B19: 出荷割合（％） | D19: 0 | E19: 0 | F19: 0 | G19: 0 | H19: 0 | I19: 0 | J19: 0 | K19: 0 | L19: 0 | M19: 0 | N19: 0 | O19: 0 | P19: 0 | Q19: 0 | R19: 0 | S19: 0 | T19: 0 | U19: 0 | V19: 0 | W19: 0
B20: ※１ 同一エリアに新規指定産地候補地が複数ある場合は、二重線の左側に、「複合要件の適用を予定する新規産地候補地」の欄を追加して記入すること。
B21: ※２ 重複市町村計の欄は、種別毎に施行規則第１条第２項の面積要件を充足していること。※重複市町村計と産地計が複合面積要件をクリアしている必要。
B23: 活性化計画有無
B24: 有
B25: 無

Sheet 様式４
B1: 様式４ 区域変更産地の概要（拡大・縮小） | G1: 局等名
B2: 都道府県名
B3: 産地名 | E3: 種別
Q4: =様式１!S1 -> 0
C5: ふ り が な | D5: 出荷団体等名 （農家戸数） | E5: 作付面積ｈａ | J5: 出荷団体・大規模生産者による出荷数量ｔ
C6: 構成市町村名 | E6: （１０ａ当たり収穫量ｋｇ） | J6: （出荷割合％）
E7: R4年産 | F7: R5年産 | G7: R6年産 | H7: R7年産 | I7: 見通し (R10年産) | J7: R4年産 | K7: R5年産 | L7: R6年産 | M7: R7年産 | N7: 見通し (R10年産) | P7: 参考 | Q7: =様式１!S4 -> 0
B8: 変更前 | E8: 0 | F8: 0 | G8: 0 | H8: 0 | I8: 0 | J8: 0 | K8: 0 | L8: 0 | M8: 0 | N8: 0
E9: 0 | F9: 0 | G9: 0 | H9: 0 | I9: 0 | J9: 0 | K9: 0 | L9: 0 | M9: 0 | N9: 0 | P9: 面積要件 20ha（露地） 16ha（露地・複合特例） 12ha（果菜類夏秋） 10ha（果菜類夏秋・複合特例） 8ha（果菜類冬春） 6ha（果菜類冬春・複合特例） | R9: 出荷割合要件 66.7% 50%（特例：面積及び出荷単収クリア）
C18: 計 ※下段は産地全体の数値を入力 | E18: =SUM(E8+E10+E12+E14+E16) -> 0 | F18: =SUM(F8+F10+F12+F14+F16) -> 0 | G18: =SUM(G8+G10+G12+G14+G16) -> 0 | H18: =SUM(H8+H10+H12+H14+H16) -> 0 | I18: =SUM(I8+I10+I12+I14+I16) -> 0 | J18: =SUM(J8+J10+J12+J14+J16) -> 0 | K18: =SUM(K8+K10+K12+K14+K16) -> 0 | L18: =SUM(L8+L10+L12+L14+L16) -> 0 | ... N18: =SUM(N8+N10+N12+N14+N16) -> 0
E19: 0 | F19: 0 | G19: 0 | H19: 0 | I19: 0 | J19: 0 | K19: 0 | L19: 0 | M19: 0 | N19: 0
B20: 変更後 ※１
C30: 計 ※下段は産地全体の数値を入力 | E30: =SUM(E20+E22+E24+E26+E28) -> 0 | F30: =SUM(F20+F22+F24+F26+F28) -> 0 | G30: =SUM(G20+G22+G24+G26+G28) -> 0 | H30: =SUM(H20+H22+H24+H26+H28) -> 0 | I30: =SUM(I20+I22+I24+I26+I28) -> 0 | J30: =SUM(J20+J22+J24+J26+J28) -> 0 | K30: =SUM(K20+K22+K24+K26+K28) -> 0 | L30: =SUM(L20+L22+L24+L26+L28) -> 0 | ... N30: =SUM(N20+N22+N24+N26+N28) -> 0
E31: 0 | F31: 0 | G31: 0 | H31: 0 | I31: 0 | J31: 0 | K31: 0 | L31: 0 | M31: 0 | N31: 0
B32: 区域を変更する理由 | N32: 隣接状況
B37: ※１ 変更後の欄について、既存の市町村は、作付面積１ha（0.5ha）以上又は出荷団体等の出荷量１ｔ以上あること。 今回、新たに追加する市町村は、１ha（0.5ha）以上の作付面積を有していること。
C40: 隣接状況
C41: 全ての市町村が隣接している
C42: 一部市町村が隣接していない | L42: .

Sheet 様式５
B1: 様式５ 解除希望産地の概要 | F1: 局等名
B3: 都道府県名
B4: 産地名 | D4: 種別 | H4: 指定年度 | J4: 年度 | N4: =様式１!P1 -> 0
B6: 構成市町村名 | C6: 出荷団体等名 （農家戸数） | D6: 作付面積ｈａ | H6: 出荷団体・大規模生産者による 出荷数量ｔ
D7: （１０ａ当たり収穫量ｋｇ） | H7: （出荷割合％） | M7: 参考 | N7: =様式１!P4 -> 0
D8: R4年産 | E8: R5年産 | F8: R6年産 | G8: R7年産 | H8: R4年産 | I8: R5年産 | J8: R6年産 | K8: R7年産
D9: 0 | E9: 0 | F9: 0 | G9: 0 | H9: 0 | I9: 0 | J9: 0 | K9: 0 | M9: 面積要件 20ha（露地） 16ha（露地・複合特例） 12ha（果菜類夏秋） 10ha（果菜類夏秋・複合特例） 8ha（果菜類冬春） 6ha（果菜類冬春・複合特例） | O9: 出荷割合要件 66.7% 50%（特例：面積及び出荷単収クリア）
D10: 0 | E10: 0 | F10: 0 | G10: 0 | H10: 0 | I10: -1 | J10: 0 | K10: 0
B19: 合計 ※下段は産地全体の数値を入力 | D19: =SUM(D9+D11+D13+D15+D17) -> 0 | E19: =SUM(E9+E11+E13+E15+E17) -> 0 | F19: =SUM(F9+F11+F13+F15+F17) -> 0 | G19: =SUM(G9+G11+G13+G15+G17) -> 0 | H19: =SUM(H9+H11+H13+H15+H17) -> 0 | I19: =SUM(I9+I11+I13+I15+I17) -> 0 | J19: =SUM(J9+J11+J13+J15+J17) -> 0 | K19: =SUM(K9+K11+K13+K15+K17) -> 0
D20: 0 | E20: 0 | F20: 0 | G20: 0 | H20: 0 | I20: 0 | J20: 0 | K20: 0
B21: 解除の理由
B22: ※活性化計画（原則２次まで）を実施せずに指定解除した場合、当該産地において指定解除後に特定野菜等事業を活用することは認めていません。今後の見通しについて、産地関係者でよく協議してください。
